BEGIN:VCALENDAR
VERSION:2.0
PRODID:-//Morley &amp; Associates, Inc. - ECPv6.15.20//NONSGML v1.0//EN
CALSCALE:GREGORIAN
METHOD:PUBLISH
X-WR-CALNAME:Morley &amp; Associates, Inc.
X-ORIGINAL-URL:https://www.doctorjoyce.com
X-WR-CALDESC:Events for Morley &amp; Associates, Inc.
REFRESH-INTERVAL;VALUE=DURATION:PT1H
X-Robots-Tag:noindex
X-PUBLISHED-TTL:PT1H
BEGIN:VTIMEZONE
TZID:America/New_York
BEGIN:DAYLIGHT
TZOFFSETFROM:-0500
TZOFFSETTO:-0400
TZNAME:EDT
DTSTART:20170312T070000
END:DAYLIGHT
BEGIN:STANDARD
TZOFFSETFROM:-0400
TZOFFSETTO:-0500
TZNAME:EST
DTSTART:20171105T060000
END:STANDARD
BEGIN:DAYLIGHT
TZOFFSETFROM:-0500
TZOFFSETTO:-0400
TZNAME:EDT
DTSTART:20180311T070000
END:DAYLIGHT
BEGIN:STANDARD
TZOFFSETFROM:-0400
TZOFFSETTO:-0500
TZNAME:EST
DTSTART:20181104T060000
END:STANDARD
BEGIN:DAYLIGHT
TZOFFSETFROM:-0500
TZOFFSETTO:-0400
TZNAME:EDT
DTSTART:20190310T070000
END:DAYLIGHT
BEGIN:STANDARD
TZOFFSETFROM:-0400
TZOFFSETTO:-0500
TZNAME:EST
DTSTART:20191103T060000
END:STANDARD
BEGIN:DAYLIGHT
TZOFFSETFROM:-0500
TZOFFSETTO:-0400
TZNAME:EDT
DTSTART:20200308T070000
END:DAYLIGHT
BEGIN:STANDARD
TZOFFSETFROM:-0400
TZOFFSETTO:-0500
TZNAME:EST
DTSTART:20201101T060000
END:STANDARD
BEGIN:DAYLIGHT
TZOFFSETFROM:-0500
TZOFFSETTO:-0400
TZNAME:EDT
DTSTART:20210314T070000
END:DAYLIGHT
BEGIN:STANDARD
TZOFFSETFROM:-0400
TZOFFSETTO:-0500
TZNAME:EST
DTSTART:20211107T060000
END:STANDARD
BEGIN:DAYLIGHT
TZOFFSETFROM:-0500
TZOFFSETTO:-0400
TZNAME:EDT
DTSTART:20220313T070000
END:DAYLIGHT
BEGIN:STANDARD
TZOFFSETFROM:-0400
TZOFFSETTO:-0500
TZNAME:EST
DTSTART:20221106T060000
END:STANDARD
BEGIN:DAYLIGHT
TZOFFSETFROM:-0500
TZOFFSETTO:-0400
TZNAME:EDT
DTSTART:20230312T070000
END:DAYLIGHT
BEGIN:STANDARD
TZOFFSETFROM:-0400
TZOFFSETTO:-0500
TZNAME:EST
DTSTART:20231105T060000
END:STANDARD
BEGIN:DAYLIGHT
TZOFFSETFROM:-0500
TZOFFSETTO:-0400
TZNAME:EDT
DTSTART:20240310T070000
END:DAYLIGHT
BEGIN:STANDARD
TZOFFSETFROM:-0400
TZOFFSETTO:-0500
TZNAME:EST
DTSTART:20241103T060000
END:STANDARD
BEGIN:DAYLIGHT
TZOFFSETFROM:-0500
TZOFFSETTO:-0400
TZNAME:EDT
DTSTART:20250309T070000
END:DAYLIGHT
BEGIN:STANDARD
TZOFFSETFROM:-0400
TZOFFSETTO:-0500
TZNAME:EST
DTSTART:20251102T060000
END:STANDARD
END:VTIMEZONE
BEGIN:VEVENT
DTSTART;TZID=America/New_York:20240929T190000
DTEND;TZID=America/New_York:20240929T200000
DTSTAMP:20260423T102226
CREATED:20240929T110039Z
LAST-MODIFIED:20241213T142832Z
UID:2757-1727636400-1727640000@www.doctorjoyce.com
SUMMARY:Oxygen's "Snapped: Behind Bars" at 7 PM EST/8 PM CST on Sunday\, September 29\, 2024
DESCRIPTION:Are you ready for the latest episode of SNAPPED: Behind Bars? We are! We invite you to grab your popcorn and your favorite blanket to watch Dr. Joyce Morley on Sunday\, September 29\, 2024\, at 7:00 pm EDT for an episode you don’t want to miss. And if you miss it\, don’t fret! The episode will r-air at 10:00pm EDT. \nThis new series of Snapped: Behind Bars\, takes viewers behind prison walls to meet the convicted murderers featured on SNAPPED: Behind Bars\, who are now willing to discuss their case. \nThis episode features the story of a sixteen year-old girl by the name of Tabitha Messina\, currently serving a life sentence for the murders of her father and his girlfriend. Tabitha explains the events of her father’s murder with claims that she was not the mastermind\, shifting the blame to her convicted co-conspirator. \nDon’t forget to help us spread the word on social media and if you can’t catch the episode at 7:00 PM EDT\, it will be re-aired at 10:00 PM EDT. You can also set your DVR to watch at another time!
URL:https://www.doctorjoyce.com/event/oxygens-snapped-behind-bars-at-7-pm-est-8-pm-cst-on-sunday-september-29-2024/
CATEGORIES:Event
ATTACH;FMTTYPE=image/png:https://www.doctorjoyce.com/wp-content/uploads/2024/09/Dr.-Joyce-Morley-Snapped-Feature.png
END:VEVENT
BEGIN:VEVENT
DTSTART;TZID=America/New_York:20240915T190000
DTEND;TZID=America/New_York:20240915T200000
DTSTAMP:20260423T102226
CREATED:20240915T110020Z
LAST-MODIFIED:20241213T143254Z
UID:2761-1726426800-1726430400@www.doctorjoyce.com
SUMMARY:Oxygen's "Snapped: Behind Bars" at 7 PM EST/8 PM CST on Sunday\, September 15\, 2024
DESCRIPTION:Are you ready for the latest episode of SNAPPED: Behind Bars? We are! We invite you to grab your popcorn and your favorite blanket to watch Dr. Morley on Sunday\, September 15\, 2024 at 7:00 pm EDT for an episode you don’t want to miss. And if you miss it\, don’t fret! The episode will re-air at 10:00pm EDT. \nThis new series of Snapped: Behind Bars\, takes viewers behind prison walls to meet the convicted murderers featured on SNAPPED\, who are now willing to discuss their case. \nThis episode features the story of Tausha Morton\, who sits down to clarify what led to her ex-husband’s death; she speaks out against the triggerman\, alleging that there was never a murder conspiracy; she discusses how she feels being behind bars for life. \nDon’t forget to help us spread the word on social media and if you can’t catch the episode at 7:00 PM EST\, it will be re-aired at 10:00 pm.
URL:https://www.doctorjoyce.com/event/oxygens-snapped-behind-bars-at-7-pm-est-8-pm-cst-on-sunday-september-15-2024/
CATEGORIES:Event
ATTACH;FMTTYPE=image/png:https://www.doctorjoyce.com/wp-content/uploads/2024/12/Dr.-Joyce-Morley-Snapped-Feature.png
END:VEVENT
BEGIN:VEVENT
DTSTART;TZID=America/New_York:20230410T220000
DTEND;TZID=America/New_York:20230410T230000
DTSTAMP:20260423T102226
CREATED:20230411T124038Z
LAST-MODIFIED:20230411T124038Z
UID:2724-1681164000-1681167600@www.doctorjoyce.com
SUMMARY:TVone's Fatal Attraction TV Show\, entitled\, "Murderous Greed" 
DESCRIPTION:Get out the popcorn and take out your remote control. Invite your family\, your friends\, your Facebook friends\, your Twitter and Instagram connections\, and your LinkedIn networks. Sit in your favorite chair or on your comfy couch\, as you tune into TVone\, Monday\, April 10\, 2023\, 9:00 p.m. Eastern/8:00 p.m. Central!!  Dr. Joyce Morley is once again featured on TVone’s Fatal Attraction TV Show\, entitled\, “Murderous Greed” \nSo you say that you have other plans? No problem…don’t fret! Set your DVR or VCR so that you can watch the show at a time that is convenient for you! Whatever you do\, DON’T MISS THE SHOW!!
URL:https://www.doctorjoyce.com/event/tvones-fatal-attraction-tv-show-entitled-murderous-greed/
ATTACH;FMTTYPE=image/jpeg:https://www.doctorjoyce.com/wp-content/uploads/2023/04/4-10-23-1.jpeg
END:VEVENT
BEGIN:VEVENT
DTSTART;TZID=America/New_York:20220908T180000
DTEND;TZID=America/New_York:20220908T193000
DTSTAMP:20260423T102226
CREATED:20220906T122757Z
LAST-MODIFIED:20220906T122757Z
UID:2701-1662660000-1662665400@www.doctorjoyce.com
SUMMARY:Courageous Conversation
DESCRIPTION:
URL:https://www.doctorjoyce.com/event/courageous-conversation/
ATTACH;FMTTYPE=image/png:https://www.doctorjoyce.com/wp-content/uploads/2022/09/Screen-Shot-2022-09-06-at-8.25.38-AM.png
END:VEVENT
BEGIN:VEVENT
DTSTART;TZID=America/New_York:20220530T170000
DTEND;TZID=America/New_York:20220530T180000
DTSTAMP:20260423T102226
CREATED:20220530T233141Z
LAST-MODIFIED:20220530T234352Z
UID:2695-1653930000-1653933600@www.doctorjoyce.com
SUMMARY:TV One's Fatal Attraction\, "Target or Tragedy"
DESCRIPTION:Get out the popcorn and take out your remote control. Invite your family\, your friends\, your Facebook friends\, your Twitter and Instagram connections\, and your LinkedIn networks. Sit in your favorite chair or on your comfy couch\, as you tune into TVone\, Monday\, May 30\, 2022\, 9:00 p.m. Eastern/8:00 p.m. Central!!  Dr. Joyce Morley is once again featured on TVone’s Fatal Attraction TV Show\, entitled\, “Target or Tragedy” \nSo you say that you have other plans? No problem…don’t fret! Set your DVR or VCR so that you can watch the show at a time that is convenient for you! Whatever you do\, DON’T MISS THE SHOW!!
URL:https://www.doctorjoyce.com/event/tv-ones-fatal-attraction-target-or-tragedy/
ATTACH;FMTTYPE=image/png:https://www.doctorjoyce.com/wp-content/uploads/2022/05/Screen-Shot-2022-05-30-at-7.30.31-PM.png
END:VEVENT
BEGIN:VEVENT
DTSTART;TZID=America/New_York:20220214T040000
DTEND;TZID=America/New_York:20220214T050000
DTSTAMP:20260423T102226
CREATED:20220223T122627Z
LAST-MODIFIED:20220223T122627Z
UID:2691-1644811200-1644814800@www.doctorjoyce.com
SUMMARY:Dekalb Unkown: A Black History Month Video Series
DESCRIPTION:
URL:https://www.doctorjoyce.com/event/dekalb-unkown-a-black-history-month-video-series/
ATTACH;FMTTYPE=image/jpeg:https://www.doctorjoyce.com/wp-content/uploads/2022/02/unnamed.jpeg
END:VEVENT
BEGIN:VEVENT
DTSTART;TZID=America/New_York:20201105T120000
DTEND;TZID=America/New_York:20201105T130000
DTSTAMP:20260423T102226
CREATED:20201029T213953Z
LAST-MODIFIED:20201029T214143Z
UID:2656-1604577600-1604581200@www.doctorjoyce.com
SUMMARY:Onward and Upward with Leslie E. Royal
DESCRIPTION:EPISODE #9: “Breaking the Stigma of Mental Health with Dr. Joyce Morley” Facebook Watch Party with @Leslieslane
URL:https://www.doctorjoyce.com/event/onward-and-upward-with-leslie-e-royal/
ATTACH;FMTTYPE=image/png:https://www.doctorjoyce.com/wp-content/uploads/2020/10/unnamed.png
END:VEVENT
BEGIN:VEVENT
DTSTART;TZID=America/New_York:20201030T150000
DTEND;TZID=America/New_York:20201030T160000
DTSTAMP:20260423T102226
CREATED:20201029T002708Z
LAST-MODIFIED:20201029T002708Z
UID:2652-1604070000-1604073600@www.doctorjoyce.com
SUMMARY:Women in Leadership Virtual Discussion: Women of Color on the School Board
DESCRIPTION:We heard about the challenges faced by female school board members in ASBJ’s “Women on Board” article in October. For this virtual event\, we asked three of the women featured in that article to talk about what it’s like being a woman of color on a school board. \nPanelists:\nKaren Anderson Holman\, Winchester\, Virginia\nDr. Joyce Morley\, DeKalb\, Georgia\nRuth Veales\, Oklahoma City\, Oklahoma
URL:https://www.doctorjoyce.com/event/women-in-leadership-virtual-discussion-women-of-color-on-the-school-board/
ATTACH;FMTTYPE=image/jpeg:https://www.doctorjoyce.com/wp-content/uploads/2020/10/unnamed.jpg
END:VEVENT
BEGIN:VEVENT
DTSTART;TZID=America/New_York:20200405T053000
DTEND;TZID=America/New_York:20200405T060000
DTSTAMP:20260423T102226
CREATED:20200404T214902Z
LAST-MODIFIED:20200404T214902Z
UID:2605-1586064600-1586066400@www.doctorjoyce.com
SUMMARY:Now is Not the Time to Throw in the Towel
DESCRIPTION:I offer my condolences and prayers to the families that have lost loved ones as a result of the COVID-19 coronavirus. I also offer my prayers and hope for those brave medical heroes and sheroes who battle the disease on a daily basis\, while putting their own lives on the line. Hold on\, keep the faith\, and continue to fight! \n  \nExodus 3:7-8 “…I have surely seen the affliction of my people…and have heard their cry…for I know their sorrows;” And I am come down to deliver them out…” \n  \nJoin Dr. Joyce as she helps you to take a realistic look at the devastating impacts of the COVID-19 coronavirus on families\, friends\, coworkers\, and ordinary human beings in America. She helps you to recognize and confront your fears and other emotions regarding the virus. She also helps you to take a realistic look at death\, dying\, life\, and living. Dr. Joyce helps you to gain practical tools for dealing with the emotional\, psychological\, spiritual\, and economic devastation associated with the virus. She helps you to take a stand\, to keep fighting for life and to declare and decree a victory over the COVID-19 coronavirus. \nDr. Joyce also helps you to begin to rise above the darkness of your sadness and confusion\, in order to think positively and see the glass as half full\, instead of half empty as you look forward to and spring forward into\, after this! You must be prepared to have the emotional\, physical\, psychological\, and spiritual strength to take back what has been taken from you\, your family\, America\, and the world by the COVID-19 coronavirus. She helps you to renew your faith\, remain hopeful\, believing and knowing that God not only has ALL power; He is ALL powerful\, and He also has the last word!    Get ready to hear it\, see it\, and behold it\, remembering that\, “This is Not the Time to Throw in the Towel!!!” \n  \nPsalm 91:10-11 “…neither shall any plague come nigh thy dwelling. For he shall give his angels charge over thee to keep thee in all thy ways.” \n  \nSunday\, April 5\, 2020\, 5:30am EST\, “Now is Not the Time to Throw in the Towel.” Atlanta’s Kiss 104.1 FM; (Not in the metropolitan Atlanta                            area?? You can still tune in to this exciting & informative     show! Just log on towww.kiss104fm.comsit back\, relax\, and enJOY!) 
URL:https://www.doctorjoyce.com/event/now-is-not-the-time-to-throw-in-the-towel/
END:VEVENT
BEGIN:VEVENT
DTSTART;TZID=America/New_York:20200402T170000
DTEND;TZID=America/New_York:20200402T180000
DTSTAMP:20260423T102226
CREATED:20200402T211841Z
LAST-MODIFIED:20200402T212024Z
UID:2600-1585846800-1585850400@www.doctorjoyce.com
SUMMARY:Congressman Hank Johnson's Telephone Town Hall Mtg
DESCRIPTION:You are welcome to join the telephone town hall meeting on COVID-19 coronavirus via phone by calling 866-654-9483 at 5 PM on Thursday\, April 2 or you can sign up online before 4 PM on Thursday\, April 2 at: https://hankjohnson.house.gov/live. The event will also be live-streamed at this address and on Facebook:https://www.facebook.com/RepHankJohnson/. At the end of the town hall meeting\, Congressman Johnson and meeting experts will also take questions from listeners.
URL:https://www.doctorjoyce.com/event/congressman-hank-johnsons-telephone-town-hall-mtg/
CATEGORIES:Event
ATTACH;FMTTYPE=image/jpeg:https://www.doctorjoyce.com/wp-content/uploads/2020/04/Flyer-Congressman-Hank-Johnson-Town-Hall-4-2-2020.jpg
END:VEVENT
BEGIN:VEVENT
DTSTART;TZID=America/New_York:20200127T090000
DTEND;TZID=America/New_York:20200127T220000
DTSTAMP:20260423T102226
CREATED:20200128T010430Z
LAST-MODIFIED:20200128T010430Z
UID:2596-1580115600-1580162400@www.doctorjoyce.com
SUMMARY:Flames of Betrayal
DESCRIPTION:Get out the popcorn and take out your remote control. Invite your family\, your friends\, your Facebook friends\, your Twitter connections\, and your LinkedIn networks. Sit in your favorite chair or on your comfy couch\, as you tune into TV One\, Monday\, January 27\, 2020\, 9:00 p.m. Eastern/8:00 p.m. Central!!  Dr. Joyce Morley is once again featured on TV One’s Fatal Attraction TV Show\, entitled\, “Flames of Betrayal”
URL:https://www.doctorjoyce.com/event/flames-of-betrayal/
END:VEVENT
BEGIN:VEVENT
DTSTART;TZID=America/New_York:20200105T053000
DTEND;TZID=America/New_York:20200105T180000
DTSTAMP:20260423T102226
CREATED:20200105T103008Z
LAST-MODIFIED:20200105T050538Z
UID:2583-1578202200-1578247200@www.doctorjoyce.com
SUMMARY:Relationship Segment Kiss 104.1 FM
DESCRIPTION:Looking Back Long Enough to Move Forward \n  \nHappy New Year! Join Dr. Joyce as she helps you to recognize the importance of moving forward in 2020\, instead of remaining stuck in the pit of what didn’t take place in 2019. She helps you to see the benefits of taking stock of what has worked for you\, what can work for you\, and what will work for you. She also helps you to decide how to leave your past behind you\, in order for you to move toward\, in and through your present. Dr. Joyce gives you permission to no longer hold yourself hostage by crying over the spilled milk of 2019\, as she helps you to recognize how the milk was spilled\, allowing you to not make the same mistakes in 2020. Dr. Joyce walks you through the process of only “Looking Back Long Enough to Move Forward in 2020.” Looking back longer than is needed will cause you to engage in wrecks within your life! She helps you to recognize that you can’t live in two different years at the same time. The year 2019 is your past\, and the year 2020 is your present. It is truly a gift\, accept it\, live in in\, and thrive in it…it’s yours!
URL:https://www.doctorjoyce.com/event/relationship-segment-kiss-104-1-fm/
CATEGORIES:Event
END:VEVENT
BEGIN:VEVENT
DTSTART;TZID=America/New_York:20191012T170000
DTEND;TZID=America/New_York:20191012T190000
DTSTAMP:20260423T102226
CREATED:20191006T195622Z
LAST-MODIFIED:20191006T195622Z
UID:2578-1570899600-1570906800@www.doctorjoyce.com
SUMMARY:ONYX Book Club’s 25th Anniversary Celebration
DESCRIPTION:Speaker\, ONYX Book Club’s 25th Anniversary Celebration; Saturday\, October 12\, 2019; 5:00pm
URL:https://www.doctorjoyce.com/event/onyx-book-clubs-25th-anniversary-celebration/
END:VEVENT
BEGIN:VEVENT
DTSTART;TZID=America/New_York:20191007T210000
DTEND;TZID=America/New_York:20191007T210000
DTSTAMP:20260423T102226
CREATED:20191006T195517Z
LAST-MODIFIED:20191006T195517Z
UID:2576-1570482000-1570482000@www.doctorjoyce.com
SUMMARY:TV One’s “Fatal Attraction” TV Show
DESCRIPTION:Be sure to watch or set your DVR or VCR\, to see Dr. Joyce Morley as she serves as relationship expert on TV One’s “Fatal Attraction” TV Show\, Monday\, October 7\, 2019\, 9:00pm ET/8:00pm CT. The Title: “Strangers in the Park.”
URL:https://www.doctorjoyce.com/event/tv-ones-fatal-attraction-tv-show/
END:VEVENT
BEGIN:VEVENT
DTSTART;TZID=America/New_York:20191006T053000
DTEND;TZID=America/New_York:20191006T063000
DTSTAMP:20260423T102226
CREATED:20191006T195406Z
LAST-MODIFIED:20191006T195406Z
UID:2574-1570339800-1570343400@www.doctorjoyce.com
SUMMARY:“Is Your Relationship a Dream or a Nightmare”
DESCRIPTION:No matter what-you are the best you deserve the best-a dream relationship\, healthy whole & positive!  Sun 10/6/19\, 5:30am EST\n“Is Your Relationship a Dream or a Nightmare” Atlanta’s Kiss 104.1 FM; www.kiss104fm.com
URL:https://www.doctorjoyce.com/event/is-your-relationship-a-dream-or-a-nightmare/
END:VEVENT
BEGIN:VEVENT
DTSTART;TZID=America/New_York:20190921T153000
DTEND;TZID=America/New_York:20190921T173000
DTSTAMP:20260423T102226
CREATED:20190922T212657Z
LAST-MODIFIED:20190922T212657Z
UID:2569-1569079800-1569087000@www.doctorjoyce.com
SUMMARY:Community Call to Action w/ Reach Project
DESCRIPTION:
URL:https://www.doctorjoyce.com/event/community-call-to-action-w-reach-project/
LOCATION:Riverside EpiCenter
END:VEVENT
BEGIN:VEVENT
DTSTART;TZID=America/New_York:20181103T050000
DTEND;TZID=America/New_York:20181103T070000
DTSTAMP:20260423T102226
CREATED:20181010T063703Z
LAST-MODIFIED:20181010T063703Z
UID:2266-1541221200-1541228400@www.doctorjoyce.com
SUMMARY:Workshop
DESCRIPTION:Free to Public
URL:https://www.doctorjoyce.com/event/workshop/
END:VEVENT
END:VCALENDAR